BEGIN:VCALENDAR
VERSION:2.0
BEGIN:VEVENT
URL:https://suzukiownersclub.co.uk/diary-of-events-2/viewevent/96-margate-meltdown 
DTSTART:%2013%05%27GMT%00%May%th
DTEND:%2013%05%27GMT%23%May%th
SUMMARY:Margate Meltdown
DESCRIPTION:More details to follow
LOCATION:Margate
END:VEVENT
END:VCALENDAR