BEGIN:VCALENDAR
VERSION:2.0
BEGIN:VEVENT
URL:https://suzukiownersclub.co.uk/diary-of-events-2/viewevent/82-north-east-ride-out-to-rothbury-and-kielder-water 
DTSTART:%2013%10%13GMT%09%Oct%th
DTEND:%2013%10%13GMT%16%Oct%th
SUMMARY:North East ride out to Rothbury and Kielder Water
DESCRIPTION:This run starts at Bowburn services, junction 61 A1, Meet at 9-30am for 10am prompt start. We will travel over towards Castleside , then onto the A68 travelling north to Rothbury then onto Kielder Water for lunch.
Kevin Close: 07949035419
LOCATION:Bowburn Services DH6 5NP
END:VEVENT
END:VCALENDAR