BEGIN:VCALENDAR
VERSION:2.0
BEGIN:VEVENT
URL:https://suzukiownersclub.co.uk/diary-of-events-2/viewevent/81-north-east-ride-out-to-the-wakefield-mining-museum 
DTSTART:%2013%09%22GMT%09%Sep%nd
DTEND:%2013%09%22GMT%16%Sep%nd
SUMMARY:North East ride out to the Wakefield Mining Museum
DESCRIPTION:The ride starts from Bowburn services , junction 61 A1. Meet for 9-30 leaving at 10am prompt. We will travel down the motorway for this run getting to the museum at about 11-30. The museum has a cafe and displays at the surface but the main thing with this venue it has a guided tour underground going down the lift shaft. 
The cost for this is £2 which is refundable if you want 
Kevin Close: 07949035419
LOCATION:Bowburn Services DH6 5NP
END:VEVENT
END:VCALENDAR