BEGIN:VCALENDAR
VERSION:2.0
BEGIN:VEVENT
URL:https://suzukiownersclub.co.uk/diary-of-events-2/viewevent/680-london-centre-monthly-meet-ace-cafe 
DTSTART:%2017%02%12GMT%11%Feb%th
DTEND:%2017%02%12GMT%13%Feb%th
SUMMARY:London Centre Monthly Meet, Ace Cafe
DESCRIPTION:11:30am Everyone is welcome to come and chat, participate, drink lots of tea and coffee and have fun!! Where: The monthly London Massive Centre meeting takes place at: Ace Cafe What time: 11:30am Who: Everyone is welcome to come and chat, participate, drink lots of tea and coffee and have fun!! Contact John Carr - 07768797125
LOCATION:London
END:VEVENT
END:VCALENDAR