BEGIN:VCALENDAR
VERSION:2.0
BEGIN:VEVENT
URL:https://suzukiownersclub.co.uk/diary-of-events-2/viewevent/674-ride-to-the-departure-lounge-cafe-in-alton 
DTSTART:%2017%06%11GMT%10%Jun%th
DTEND:%2017%06%11GMT%12%Jun%th
SUMMARY:Ride to the Departure Lounge Cafe in Alton
DESCRIPTION:
LOCATION:Departure lounge in Alton
END:VEVENT
END:VCALENDAR