BEGIN:VCALENDAR
VERSION:2.0
BEGIN:VEVENT
URL:https://suzukiownersclub.co.uk/diary-of-events-2/viewevent/672-south-coast-camping-weekend-fox-and-goose-at-greywell-rg29-1by-off-exit-5-on-m3 
DTSTART:%2017%06%09GMT%17%Jun%th
DTEND:%2017%06%11GMT%15%Jun%th
SUMMARY:South Coast Camping weekend. Fox and Goose at Greywell, RG29 1BY off exit 5 on M3
DESCRIPTION:
LOCATION:Greywell RG29 1BY
END:VEVENT
END:VCALENDAR