BEGIN:VCALENDAR
VERSION:2.0
BEGIN:VEVENT
URL:https://suzukiownersclub.co.uk/diary-of-events-2/viewevent/668-ride-out-to-goodwood-from-loomies-centre-meet 
DTSTART:%2017%04%02GMT%12%Apr%nd
DTEND:%2017%04%02GMT%15%Apr%nd
SUMMARY:Ride out to Goodwood from loomies centre meet
DESCRIPTION:
LOCATION:Goodwood, South coast
END:VEVENT
END:VCALENDAR