BEGIN:VCALENDAR
VERSION:2.0
BEGIN:VEVENT
URL:https://suzukiownersclub.co.uk/diary-of-events-2/viewevent/660-wickham-square-meet-south-coast-meet-kings-head 
DTSTART:%2016%12%26GMT%11%Dec%th
DTEND:%2016%12%26GMT%12%Dec%th
SUMMARY:Wickham Square meet. South Coast. Meet Kings Head
DESCRIPTION:
LOCATION:Wickham Square.
END:VEVENT
END:VCALENDAR