BEGIN:VCALENDAR
VERSION:2.0
BEGIN:VEVENT
URL:https://suzukiownersclub.co.uk/diary-of-events-2/viewevent/66-north-east-run-to-yorkshire-dales 
DTSTART:%2013%07%21GMT%00%Jul%st
DTEND:%2013%07%21GMT%23%Jul%st
SUMMARY:North East run to Yorkshire Dales 
DESCRIPTION:This run starts from Bowburn services jct 61 A1 at 10am prompt. We will travel over to Hawes and on to the Ribblehead Viaduct and Settle, taking in the beautiful scenery of the Yorkshire Dales including Malham Tarn and Cove
Kevin Close:  07949035419
LOCATION:North East
END:VEVENT
END:VCALENDAR