BEGIN:VCALENDAR
VERSION:2.0
BEGIN:VEVENT
URL:https://suzukiownersclub.co.uk/diary-of-events-2/viewevent/654-new-centre-north-west-centre-meet-new-hall-tavern-cuerdale-lane-walton-le-dales-preston-pr5-0xa 
DTSTART:%2016%11%20GMT%12%Nov%th
DTEND:%2016%11%20GMT%13%Nov%th
SUMMARY:**NEW CENTRE** North West Centre Meet. New Hall Tavern, Cuerdale lane, Walton-le-Dales,Preston, PR5 0XA . 
DESCRIPTION:Antony is hoping to have a regular monthly meetings but as yet is undecided as to best venue and day. please come along and show your support for the centre.  contact Antony Bradshaw at antonyb@blueyonder.co.uk if you want any more details.
LOCATION:Preston
END:VEVENT
END:VCALENDAR