BEGIN:VCALENDAR
VERSION:2.0
BEGIN:VEVENT
URL:https://suzukiownersclub.co.uk/diary-of-events-2/viewevent/579-south-coast-new-year-xmas-lunch-crawley-harvester-crawley-leisure-park 
DTSTART:%2016%01%23GMT%12%Jan%rd
DTEND:%2016%01%23GMT%16%Jan%rd
SUMMARY:South Coast New Year Xmas Lunch Crawley Harvester  Crawley Leisure Park. 
DESCRIPTION:
LOCATION:crawley
END:VEVENT
END:VCALENDAR