BEGIN:VCALENDAR
VERSION:2.0
BEGIN:VEVENT
URL:https://suzukiownersclub.co.uk/diary-of-events-2/viewevent/576-south-coast-ride-out-to-brooklands-museum 
DTSTART:%2016%06%04GMT%10%Jun%th
DTEND:%2016%06%04GMT%18%Jun%th
SUMMARY:South Coast Ride Out to Brooklands Museum 
DESCRIPTION:
LOCATION:south coast
END:VEVENT
END:VCALENDAR