BEGIN:VCALENDAR
VERSION:2.0
BEGIN:VEVENT
URL:https://suzukiownersclub.co.uk/diary-of-events-2/viewevent/553-london-centre-monthly-meet-the-white-house-ub11-1aa 
DTSTART:%2016%09%11GMT%11%Sep%th
DTEND:%2016%09%11GMT%13%Sep%th
SUMMARY:London Centre Monthly Meet, The White House, UB11 1AA
DESCRIPTION:
LOCATION:The White House
END:VEVENT
END:VCALENDAR