BEGIN:VCALENDAR
VERSION:2.0
BEGIN:VEVENT
URL:https://suzukiownersclub.co.uk/diary-of-events-2/viewevent/532-north-east-camping-weekend-heather-lad-quarrington-hill-cassop-durham-dh6-4qd 
DTSTART:%2016%04%29GMT%17%Apr%th
DTEND:%2016%05%02GMT%16%May%nd
SUMMARY:North East Camping Weekend. Heather Lad, Quarrington Hill, Cassop, Durham. DH6 4QD
DESCRIPTION:
LOCATION:Heather Lad
END:VEVENT
END:VCALENDAR