BEGIN:VCALENDAR
VERSION:2.0
BEGIN:VEVENT
URL:https://suzukiownersclub.co.uk/diary-of-events-2/viewevent/529-north-east-centre-monthly-meet-heather-lad-quarrington-hill-cassop-dh6-4qd 
DTSTART:%2016%10%02GMT%19%Oct%nd
DTEND:%2016%10%02GMT%21%Oct%nd
SUMMARY:North East Centre Monthly Meet. Heather Lad Quarrington Hill, Cassop. DH6 4QD
DESCRIPTION:
LOCATION:Heather Lad
END:VEVENT
END:VCALENDAR