BEGIN:VCALENDAR
VERSION:2.0
BEGIN:VEVENT
URL:https://suzukiownersclub.co.uk/diary-of-events-2/viewevent/528-north-east-centre-monthly-meet-heather-lad-quarrington-hill-cassop-dh6-4qd-presentation-night 
DTSTART:%2016%09%11GMT%19%Sep%th
DTEND:%2016%09%11GMT%21%Sep%th
SUMMARY:North East Centre Monthly Meet. Heather Lad Quarrington Hill, Cassop. DH6 4QD presentation night
DESCRIPTION:
LOCATION:Heather Lad.
END:VEVENT
END:VCALENDAR