BEGIN:VCALENDAR
VERSION:2.0
BEGIN:VEVENT
URL:https://suzukiownersclub.co.uk/diary-of-events-2/viewevent/525-north-east-centre-monthly-meet-heather-lad-quarrington-hill-cassop-dh6-4qd 
DTSTART:%2016%06%05GMT%19%Jun%th
DTEND:%2016%06%05GMT%21%Jun%th
SUMMARY:North East Centre Monthly Meet. Heather Lad Quarrington Hill, Cassop. DH6 4QD
DESCRIPTION:
LOCATION:Heather Lad
END:VEVENT
END:VCALENDAR