BEGIN:VCALENDAR
VERSION:2.0
BEGIN:VEVENT
URL:https://suzukiownersclub.co.uk/diary-of-events-2/viewevent/517-south-coast-camping-weekend-fox-and-goose-at-greywell-rg29-1by-off-exit-5-on-m3 
DTSTART:%2016%06%03GMT%16%Jun%rd
DTEND:%2016%06%05GMT%16%Jun%th
SUMMARY:South Coast Camping weekend. Fox and Goose at Greywell, RG29 1BY off exit 5 on M3
DESCRIPTION:
LOCATION:Fox and Goose.
END:VEVENT
END:VCALENDAR