BEGIN:VCALENDAR
VERSION:2.0
BEGIN:VEVENT
URL:https://suzukiownersclub.co.uk/diary-of-events-2/viewevent/510-south-coast-centre-monthly-meet-loomies-a272-a32-alton-road-west-meon-gu36-1jx-and-submarine-museum 
DTSTART:%2016%05%08GMT%10%May%th
DTEND:%2016%05%08GMT%17%May%th
SUMMARY:South Coast Centre Monthly Meet. Loomies, A272/A32 Alton Road, West Meon GU36 1JX and submarine museum
DESCRIPTION:
LOCATION:loomies
END:VEVENT
END:VCALENDAR