BEGIN:VCALENDAR
VERSION:2.0
BEGIN:VEVENT
URL:https://suzukiownersclub.co.uk/diary-of-events-2/viewevent/506-south-coast-centre-monthly-meet-loomies-a272-a32-alton-road-west-meon-gu36-1jx 
DTSTART:%2016%01%03GMT%10%Jan%rd
DTEND:%2016%01%03GMT%12%Jan%rd
SUMMARY:South Coast Centre Monthly Meet. Loomies, A272/A32 Alton Road, West Meon GU36 1JX
DESCRIPTION:
LOCATION:south coast
END:VEVENT
END:VCALENDAR