BEGIN:VCALENDAR
VERSION:2.0
BEGIN:VEVENT
URL:https://suzukiownersclub.co.uk/diary-of-events-2/viewevent/504-nc-on-tour-september-meeting 
DTSTART:%2015%09%26GMT%13%Sep%th
DTEND:%2015%09%26GMT%17%Sep%th
SUMMARY:NC on Tour September Meeting
DESCRIPTION:Dear All,
The September NC meeting is scheduled for the 26th September 2015 @ 1pm Please note that this is not a full NC meeting but a planning meeting.

The venue is:
Hayes & Harlington Community Centre
Albert Rd, 
Hayes, 
Middlesex, 
UB3 4HR

There is secure parking and tea and coffee will be provided.
Agenda available by emailing: ncsuzukiownersclub@rocketmail.com
Please email ncsuzukiownersclub@rocketmail.com to confirm attendance by Thursday 23rd September 2015
We look forward to seeing everyone there  :cheer:
LOCATION:Hayes & Harlington Community Centre Albert Rd,  Hayes,  Middlesex,  UB3 4HR
END:VEVENT
END:VCALENDAR