BEGIN:VCALENDAR
VERSION:2.0
BEGIN:VEVENT
URL:https://suzukiownersclub.co.uk/diary-of-events-2/viewevent/502-stafford-classic-bike-show 
DTSTART:%2015%10%17GMT%09%Oct%th
DTEND:%2015%10%18GMT%17%Oct%th
SUMMARY:Stafford Classic Bike Show  
DESCRIPTION:
LOCATION:Stafford County Showground, Weston Rd ST18 0BD
END:VEVENT
END:VCALENDAR