BEGIN:VCALENDAR
VERSION:2.0
BEGIN:VEVENT
URL:https://suzukiownersclub.co.uk/diary-of-events-2/viewevent/501-ride-out-to-darley-moor-race-meet 
DTSTART:%2015%10%11GMT%09%Oct%th
DTEND:%2015%10%11GMT%17%Oct%th
SUMMARY:Ride out to Darley Moor Race Meet 
DESCRIPTION:
LOCATION:stafford
END:VEVENT
END:VCALENDAR