BEGIN:VCALENDAR
VERSION:2.0
BEGIN:VEVENT
URL:https://suzukiownersclub.co.uk/diary-of-events-2/viewevent/495-mcn-live-at-the-nec-birmingham 
DTSTART:%2015%11%28GMT%00%Nov%th
DTEND:%2015%12%06GMT%23%Dec%th
SUMMARY:MCN Live at the NEC Birmingham.
DESCRIPTION:
LOCATION:NEC Birmingham
END:VEVENT
END:VCALENDAR