BEGIN:VCALENDAR
VERSION:2.0
BEGIN:VEVENT
URL:https://suzukiownersclub.co.uk/diary-of-events-2/viewevent/492-classic-suzuki-sunday-at-the-super-sausage 
DTSTART:%2015%09%06GMT%00%Sep%th
DTEND:%2015%09%06GMT%23%Sep%th
SUMMARY:Classic Suzuki Sunday at the Super Sausage
DESCRIPTION:Come along to the Super Sausage Classic Suzuki Sunday and enjoy a day of classic bikes!
Sponsored by Suzuki GB with lots to see and a great menu at the cafe!
Address: 
Super Sausage Cafe, Watling Street, Potterspury,  
Towcester, Northampton, NN12 7QD. 
http://www.supersausagecafe.co.uk/
LOCATION:Super Sausage Cafe, Watling Street, Potterspury,   Towcester, Northampton, NN12 7QD. 
END:VEVENT
END:VCALENDAR