BEGIN:VCALENDAR
VERSION:2.0
BEGIN:VEVENT
URL:https://suzukiownersclub.co.uk/diary-of-events-2/viewevent/491-brighton-burn-up 
DTSTART:%2015%09%12GMT%00%Sep%th
DTEND:%2015%09%13GMT%23%Sep%th
SUMMARY:Brighton Burn Up
DESCRIPTION:he Brighton Burn Up & Ride With The Rockers, has been an integral part of Ace Cafe Reunions since 1996,and is a free, grand day out at the seaside on Brighton's famous seafront road, Madeira Drive. With trade and club stands and displays, live music and special guests, it's an experience not to be missed!

http://www.acecafeevents.com/reunion.html
LOCATION:Brighton
END:VEVENT
END:VCALENDAR