BEGIN:VCALENDAR
VERSION:2.0
BEGIN:VEVENT
URL:https://suzukiownersclub.co.uk/diary-of-events-2/viewevent/489-south-coast-ride-out-to-1066-cafe-in-hastings-public-forum 
DTSTART:%2015%06%21GMT%00%Jun%st
DTEND:%2015%06%21GMT%00%Jun%st
SUMMARY:South coast ride out to 1066 cafe in Hastings public forum
DESCRIPTION:
LOCATION:Hastings
END:VEVENT
END:VCALENDAR