BEGIN:VCALENDAR
VERSION:2.0
BEGIN:VEVENT
URL:https://suzukiownersclub.co.uk/diary-of-events-2/viewevent/486-stafford-centre-camping-weekend-tern-valley-vintage-machinary-show-shropshire 
DTSTART:%2015%08%14GMT%16%Aug%th
DTEND:%2015%08%16GMT%18%Aug%th
SUMMARY:Stafford centre Camping Weekend @Tern Valley vintage machinary show, shropshire
DESCRIPTION:
LOCATION:Newport, Shropeshire
END:VEVENT
END:VCALENDAR