BEGIN:VCALENDAR
VERSION:2.0
BEGIN:VEVENT
URL:https://suzukiownersclub.co.uk/diary-of-events-2/viewevent/485-nc-on-tour-23rd-may-2015 
DTSTART:%2015%05%23GMT%10%May%rd
DTEND:%2015%05%23GMT%13%May%rd
SUMMARY:NC on Tour - 23rd May 2015
DESCRIPTION:Dear All,

The next NC meeting will be held on 23rd May 2013 @ 10.30am

The venue is:
The Heather Lad Inn,
Quarrington Hill,
Durham
DH6 4QD

We would encourage Centre Secretaries to attend, where possible, and look forward to meeting you all.
All future NC meets will be taking place at various locations to enable member attendance and participation. All members are welcome to attend. Tea and coffee will be provided at this meeting.

If any member wishes to attend, please advise them to notify the National Secretary no less than three days prior to the date by email, ncsuzukiownersclub@rocketmail.com

Please email for an agenda: ncsuzukiownersclub@rocketmail.com

We will also be having a ‘Members Questions’ section,please email your questions to the National Secretary for inclusion, Thank you.

We look forward to seeing you there
Regards,

Sue Carr
National Secretary
LOCATION:The Heather Lad Inn, Quarrington Hill, Durham DH6 4QD
END:VEVENT
END:VCALENDAR