BEGIN:VCALENDAR
VERSION:2.0
BEGIN:VEVENT
URL:https://suzukiownersclub.co.uk/diary-of-events-2/viewevent/483-stafford-centre-christmas-dinner 
DTSTART:%2015%12%12GMT%12%Dec%th
DTEND:%2015%12%12GMT%16%Dec%th
SUMMARY:Stafford Centre Christmas Dinner 
DESCRIPTION:
LOCATION:Stafford
END:VEVENT
END:VCALENDAR