BEGIN:VCALENDAR
VERSION:2.0
BEGIN:VEVENT
URL:https://suzukiownersclub.co.uk/diary-of-events-2/viewevent/482-stafford-centre-ride-out-to-founders-day-vintage-motorcycle-rally 
DTSTART:%2015%07%19GMT%10%Jul%th
DTEND:%2015%07%19GMT%18%Jul%th
SUMMARY:Stafford Centre Ride Out to Founders Day Vintage Motorcycle Rally 
DESCRIPTION:
LOCATION:Stafford
END:VEVENT
END:VCALENDAR