BEGIN:VCALENDAR
VERSION:2.0
BEGIN:VEVENT
URL:https://suzukiownersclub.co.uk/diary-of-events-2/viewevent/481-stafford-center-ride-out-to-penderosa-cafe-at-horseshoe-pass 
DTSTART:%2015%06%07GMT%10%Jun%th
DTEND:%2015%06%07GMT%18%Jun%th
SUMMARY:Stafford Center Ride Out to Penderosa Cafe at Horseshoe pass.
DESCRIPTION:
LOCATION:Stafford
END:VEVENT
END:VCALENDAR