BEGIN:VCALENDAR
VERSION:2.0
BEGIN:VEVENT
URL:https://suzukiownersclub.co.uk/diary-of-events-2/viewevent/480-stafford-centre-ride-out-to-portmadoc-wales 
DTSTART:%2015%05%10GMT%10%May%th
DTEND:%2015%05%10GMT%18%May%th
SUMMARY:Stafford Centre Ride Out to Portmadoc, Wales.
DESCRIPTION:
LOCATION:Stafford
END:VEVENT
END:VCALENDAR