BEGIN:VCALENDAR
VERSION:2.0
BEGIN:VEVENT
URL:https://suzukiownersclub.co.uk/diary-of-events-2/viewevent/479-charleroi-at-the-end-of-may-belgium 
DTSTART:%2015%05%22GMT%00%May%nd
DTEND:%2015%05%25GMT%00%May%th
SUMMARY:Charleroi at the end of May-  Belgium
DESCRIPTION:
LOCATION:Belgium
END:VEVENT
END:VCALENDAR