BEGIN:VCALENDAR
VERSION:2.0
BEGIN:VEVENT
URL:https://suzukiownersclub.co.uk/diary-of-events-2/viewevent/478-loppem-festival-in-belgium 
DTSTART:%2015%05%21GMT%00%May%st
DTEND:%2015%05%24GMT%23%May%th
SUMMARY:Loppem festival in Belgium. 
DESCRIPTION:
LOCATION:Belgium
END:VEVENT
END:VCALENDAR