BEGIN:VCALENDAR
VERSION:2.0
BEGIN:VEVENT
URL:https://suzukiownersclub.co.uk/diary-of-events-2/viewevent/477-fat-skeletons-blues-bikers-weekend-lincolnshire 
DTSTART:%2015%04%17GMT%00%Apr%th
DTEND:%2015%04%19GMT%23%Apr%th
SUMMARY:Fat Skeletons Blues & bikers weekend. Lincolnshire.
DESCRIPTION:
LOCATION:Lincolnshire
END:VEVENT
END:VCALENDAR