BEGIN:VCALENDAR
VERSION:2.0
BEGIN:VEVENT
URL:https://suzukiownersclub.co.uk/diary-of-events-2/viewevent/476-prescott-bike-festival-prescott-hill-climb-gl52-9rd 
DTSTART:%2015%04%12GMT%00%Apr%th
DTEND:%2015%04%12GMT%23%Apr%th
SUMMARY:Prescott Bike Festival. Prescott Hill Climb. GL52 9RD
DESCRIPTION:
LOCATION:Cheltenham
END:VEVENT
END:VCALENDAR