BEGIN:VCALENDAR
VERSION:2.0
BEGIN:VEVENT
URL:https://suzukiownersclub.co.uk/diary-of-events-2/viewevent/474-big-biker-show-the-mansion-house-beds-sg18-9dx 
DTSTART:%2015%07%10GMT%00%Jul%th
DTEND:%2015%07%12GMT%23%Jul%th
SUMMARY:Big Biker Show.The Mansion House, Beds, SG18 9DX
DESCRIPTION:
LOCATION:Bedfordshire. 
END:VEVENT
END:VCALENDAR