BEGIN:VCALENDAR
VERSION:2.0
BEGIN:VEVENT
URL:https://suzukiownersclub.co.uk/diary-of-events-2/viewevent/468-yorkshire-centre-meet-new-inn-wakefield-wf4-3af 
DTSTART:%2015%08%12GMT%20%Aug%th
DTEND:%2015%08%12GMT%22%Aug%th
SUMMARY:Yorkshire Centre Meet. New Inn, Wakefield. WF4 3AF
DESCRIPTION:
LOCATION:Yorkshire
END:VEVENT
END:VCALENDAR