BEGIN:VCALENDAR
VERSION:2.0
BEGIN:VEVENT
URL:https://suzukiownersclub.co.uk/diary-of-events-2/viewevent/467-yorkshire-centre-meet-new-inn-wakefield-wf4-3af 
DTSTART:%2015%07%08GMT%20%Jul%th
DTEND:%2015%07%08GMT%22%Jul%th
SUMMARY:Yorkshire Centre Meet. New Inn, Wakefield. WF4 3AF
DESCRIPTION:
LOCATION:Yorkshire
END:VEVENT
END:VCALENDAR