BEGIN:VCALENDAR
VERSION:2.0
BEGIN:VEVENT
URL:https://suzukiownersclub.co.uk/diary-of-events-2/viewevent/460-invader-rally-ride-out 
DTSTART:%2015%08%08GMT%11%Aug%th
DTEND:%2015%08%08GMT%16%Aug%th
SUMMARY:Invader Rally ride out. 
DESCRIPTION:
LOCATION:High Marnham
END:VEVENT
END:VCALENDAR