BEGIN:VCALENDAR
VERSION:2.0
BEGIN:VEVENT
URL:https://suzukiownersclub.co.uk/diary-of-events-2/viewevent/459-london-centre-camping-ride-out 
DTSTART:%2015%08%30GMT%10%Aug%th
DTEND:%2015%08%30GMT%16%Aug%th
SUMMARY:London Centre camping ride out. 
DESCRIPTION:
LOCATION:London
END:VEVENT
END:VCALENDAR