BEGIN:VCALENDAR
VERSION:2.0
BEGIN:VEVENT
URL:https://suzukiownersclub.co.uk/diary-of-events-2/viewevent/457-south-coast-camping-ride-out-tbc 
DTSTART:%2015%06%06GMT%10%Jun%th
DTEND:%2015%06%06GMT%16%Jun%th
SUMMARY:South Coast camping Ride Out TBC
DESCRIPTION:
LOCATION:south coast
END:VEVENT
END:VCALENDAR