BEGIN:VCALENDAR
VERSION:2.0
BEGIN:VEVENT
URL:https://suzukiownersclub.co.uk/diary-of-events-2/viewevent/456-north-east-ride-out-to-blyth-northumberland-coast 
DTSTART:%2015%10%18GMT%09%Oct%th
DTEND:%2015%10%18GMT%16%Oct%th
SUMMARY:North East ride Out to Blyth / Northumberland coast
DESCRIPTION:
LOCATION:North East
END:VEVENT
END:VCALENDAR