BEGIN:VCALENDAR
VERSION:2.0
BEGIN:VEVENT
URL:https://suzukiownersclub.co.uk/diary-of-events-2/viewevent/455-north-east-ride-out-to-squires-cafe 
DTSTART:%2015%09%20GMT%09%Sep%th
DTEND:%2015%09%20GMT%16%Sep%th
SUMMARY:North East Ride Out to Squires Cafe 
DESCRIPTION:
LOCATION:North East 
END:VEVENT
END:VCALENDAR