BEGIN:VCALENDAR
VERSION:2.0
BEGIN:VEVENT
URL:https://suzukiownersclub.co.uk/diary-of-events-2/viewevent/454-north-east-ride-out-to-barrow-in-furnace-walney-island 
DTSTART:%2015%08%16GMT%09%Aug%th
DTEND:%2015%08%16GMT%16%Aug%th
SUMMARY:North East Ride Out to Barrow in Furnace / Walney island.
DESCRIPTION:
LOCATION:North East.
END:VEVENT
END:VCALENDAR