BEGIN:VCALENDAR
VERSION:2.0
BEGIN:VEVENT
URL:https://suzukiownersclub.co.uk/diary-of-events-2/viewevent/453-north-east-ride-out-to-st-mary-s-loch-sami-ling-monastry 
DTSTART:%2015%06%28GMT%08%Jun%th
DTEND:%2015%06%28GMT%18%Jun%th
SUMMARY:North East Ride Out to St Mary's loch / Sami Ling Monastry. 
DESCRIPTION:
LOCATION:North East - Scotland
END:VEVENT
END:VCALENDAR