BEGIN:VCALENDAR
VERSION:2.0
BEGIN:VEVENT
URL:https://suzukiownersclub.co.uk/diary-of-events-2/viewevent/452-north-east-ride-out-to-knaresbrough-sun-inn-harrogate 
DTSTART:%2015%05%10GMT%09%May%th
DTEND:%2015%05%10GMT%16%May%th
SUMMARY:North East Ride Out to Knaresbrough / Sun Inn Harrogate
DESCRIPTION:
LOCATION:North East
END:VEVENT
END:VCALENDAR