BEGIN:VCALENDAR
VERSION:2.0
BEGIN:VEVENT
URL:https://suzukiownersclub.co.uk/diary-of-events-2/viewevent/451-northe-east-ride-out-to-keswick-lakeland 
DTSTART:%2015%04%05GMT%09%Apr%th
DTEND:%2015%04%05GMT%16%Apr%th
SUMMARY:Northe East Ride Out to Keswick / lakeland.
DESCRIPTION:
LOCATION:North East
END:VEVENT
END:VCALENDAR