BEGIN:VCALENDAR
VERSION:2.0
BEGIN:VEVENT
URL:https://suzukiownersclub.co.uk/diary-of-events-2/viewevent/450-north-east-ride-out-to-rothbury-hadrians-wall-non-at 
DTSTART:%2015%03%15GMT%09%Mar%th
DTEND:%2015%03%15GMT%16%Mar%th
SUMMARY:North East Ride out to Rothbury/Hadrians wall. (non AT)
DESCRIPTION:
LOCATION:North East
END:VEVENT
END:VCALENDAR